{"text_format":"1","workbook":"xlsx","n_sheets":15,"sheets":["初期設定","S-1","S-2","S-3","S-5","S-6","R-9","R-7","S-8","（集計）","（ACCESS転写データ）","CPD","NEAL","NEAL（日程表）_","（作業用_Ｎ）"],"not_rendered":{"charts":0,"images":1,"macros":1,"external_links":1,"defined_names":11,"comments":4,"pivot_tables":1},"unopened":[],"bounds":{"document_bytes":16777216,"sheet_cells":100000,"rows_first":2000,"rows_last":500,"rows_between":2000,"halvings":0,"cell_chars":16384,"cell_head_chars":4096},"cells_cut":0,"cells_raw":0,"read":"whole","date_system":"1900"}

{"sheet":"初期設定","index":0,"n_rows":83,"n_cols":5,"rows_kept":83,"cut":false,"hidden":false,"merged":[[69,1,70,3],[63,1,63,3],[1,0,2,3],[3,1,3,2],[8,1,8,2],[40,1,40,2],[51,0,55,2],[44,1,44,2],[13,1,13,2],[15,0,20,0],[34,0,39,0],[11,1,11,2],[12,1,12,2]]}
["様式S-0"]
["【初期設定事項】"]
[]
[1,"団体名"]
[2,"団体連絡先","〒"]
[null,null,"住所"]
[3,"団体代表者"]
[4,"団体ホームページ"]
[5,"講座名"]
[6,"トレーナー","氏名"]
[null,null,"認定番号"]
[7,"開催団体名※5"]
[8,"主な経費負担者"]
[9,"開催日時※1"]
[10,"実施河川"]
[11,"実施会場","名称"]
[null,null,"〒"]
[null,null,"住所1(都道府県）"]
[null,null,"住所2（市区郡）"]
[null,null,"住所3（町名以下）"]
[null,null,"TEL"]
[12,"参加予定数","大人"]
[null,null,"子供"]
[null,null,"講師・指導者"]
[13,"担当者・連絡先","氏名"]
[null,null,"所属団体"]
[null,null,"役職"]
[null,null,"〒"]
[null,null,"住所"]
[null,null,"ＴＥＬ"]
[null,null,"FAX"]
[null,null,"E-MAIL"]
[14,"受講料"]
[15,"CPD登録※2を行う"]
[16,"講座資料発送先","発送先"]
[null,null,"〒"]
[null,"（※着払・午前指定にて発送）","住所"]
[null,null,"ＴＥＬ"]
[null,null,"受取人氏名"]
[null,null,"資料到着日"]
[17,"講座認定番号"]
[18,"活動実績数","大人"]
[null,null,"子供"]
[null,null,"講師・指導者"]
[19,"登録者数"]
[20,"支払申請※3","銀行名"]
[null,null,"支店名"]
[null,null,"種別"]
[null,null,"口座番号"]
[null,null,"こうざめいぎふりがな"]
[null,null,"口座名義"]
["記入不要欄",null,null,{"$f":"'S-2'!J5","v":0}]
[null,null,null,{"$f":"'S-3'!E46","v":0}]
[null,null,null,{"$f":"'R-7'!J10","v":0}]
[null,null,null,{"$f":"\"平成\"&('S-1'!I4)&\"年\"&('S-1'!K4)&\"月\"&('S-1'!M4)&\"日\"","v":"平成年月日"}]
[null,null,null,{"$f":"\"平成\"&('S-5'!M4)&\"年\"&('S-5'!O4)&\"月\"&('S-5'!Q4)&\"日\"","v":"平成年月日"}]
["注１）","講座関連書類作成前に上記へ入力ください。"]
[null,"なお、入力欄は上記",null,"色の箇所です。当データ内の他の書式も同じです。"]
[]
["注２）","講座申請時は上記",null,"色の全ての欄へ入力ください。"]
[null,"活動報告時は上記",null,"色の欄へ入力ください。"]
[]
["注３)","※1―活動報告時に変更のあった場合には修正ください。"]
[null,"※2―土木学会のＣＰＤ登録を行う場合は手数料として7000円必要です。登録を行う場合は「はい」を選択ください。"]
[null,"※3―支援講座のみ入力ください。"]
[]
["注４）","講座開催支援が不要な場合は、次の様式は不要です。"]
[null,"　様式S-３、R-7、S-8"]
[]
["注５）","「申請団体名」の欄にはＲＡＣ会員団体で指導者養成団体名を記入し、「開催団体名」の欄には実際に講座を主催する団体名（例―河川管理者から依頼の場合はその河川管理者名）を記入ください。"]
["　"]
[]
[]
[]
[]
[]
[]
["列1",null,"実施会場"]
["はい",null,"担当者・連絡先",null,"主な経費負担者"]
["いいえ",null,"下記住所",null,"受講者"]
[null,null,null,null,"申請団体"]
[null,null,null,null,"開催団体"]
[null,null,null,null,"その他（　　　　　　　　　　　　　）"]

{"sheet":"S-1","index":1,"n_rows":86,"n_cols":14,"rows_kept":86,"cut":false,"hidden":false,"merged":[[25,0,25,1],[25,2,25,12],[43,0,43,12],[28,0,29,0],[28,8,29,12],[32,0,32,12],[33,1,33,12],[37,1,37,5],[35,0,36,0],[34,7,34,8],[34,1,34,6],[35,2,35,12],[36,1,36,12],[34,9,34,12],[24,0,24,1],[24,2,24,12],[22,0,22,1],[9,5,9,12],[9,0,9,1],[9,2,9,3],[19,0,19,1],[7,0,7,1],[17,2,18,12],[7,2,7,3],[8,0,8,1],[8,2,8,3],[15,0,16,1],[15,2,16,12],[17,0,18,1],[7,5,7,13],[11,0,11,13],[13,0,13,13],[14,0,14,1],[14,2,14,12],[8,5,8,13],[1,0,1,13],[4,0,4,3],[5,0,5,2],[6,6,6,7],[30,0,30,12],[23,6,23,7],[20,0,20,1],[20,3,20,12],[28,6,29,7],[28,1,29,5],[27,0,27,12],[19,3,19,12],[21,3,21,12],[22,3,22,12],[23,0,23,1],[21,0,21,1],[45,0,45,12],[47,0,51,12],[38,1,38,12],[39,1,39,12],[37,7,37,12],[41,0,42,12],[44,0,44,12]]}
["様式Ｓ－１"]
["自然体験活動指導者対応・RACリーダー養成講座　開催申請書 "]
[]
[null,null,null,null,null,null,null,"令和",null,"年",null,"月",null,"日"]
["NPO法人川に学ぶ体験活動協議会"]
["代表理事  宮尾　博一 殿"]
[null,null,null,null,"住      所※","〒",{"$f":"初期設定!D5","v":0}]
[null,null,null,null,null,{"$f":"初期設定!D6","v":0}]
[null,null,null,null,"申請団体名　※1",{"$f":"初期設定!D4","v":0}]
[null,null,"　　　　　　　　　　　　　　　　　",null,"代表者職氏名※",{"$f":"初期設定!D7","v":0},null,null,null,null,null,null,null,"印"]
[]
["RACリーダー養成講座を開催したく、下記の通り申請します。"]
[]
["記"]
["１．講座名※",null,{"$f":"初期設定!D9","v":0}]
["２．実施日時※",null,{"$f":"初期設定!D14","v":"00:00:00"}]
[]
["３．実施河川名※",null,{"$f":"初期設定!D15","v":0}]
[]
["４．メイン会場※　　 ",null,"会場名",{"$f":"初期設定!D16","v":0}]
[null,null,"〒",{"$f":"初期設定!D17","v":0}]
["　　　　　　　　　　",null,"住所　",{"$f":"初期設定!D18&初期設定!D19&初期設定!D20","v":""}]
["　　　　　　　　　　",null,"TEL",{"$f":"初期設定!D21","v":0}]
["５．参加予定数※",null,"大人",{"$f":"初期設定!D22","v":0},"子ども",{"$f":"初期設定!D23","v":0},"講師：指導者",null,{"$f":"初期設定!D24","v":0}]
["６．開催団体名　※1",null,{"$f":"初期設定!D12","v":0}]
["７．主な経費負担者",null,{"$f":"初期設定!D13","v":0}]
[]
["■担当トレーナー"]
["氏名※",{"$f":"初期設定!D10","v":0},null,null,null,null,"トレーナー\n認定番号",null,{"$f":"初期設定!D11","v":0}]
[]
["当該講座に関し、担当トレーナーにプログラム内容等の承認を受けたことを証明します。"]
[]
["■担当者の通常の連絡先"]
["氏名※",{"$f":"初期設定!D25","v":0}]
["所属団体名※",{"$f":"初期設定!D26","v":0},null,null,null,null,null,"役　　職",null,{"$f":"初期設定!D27","v":0}]
["住所※","〒",{"$f":"初期設定!D28","v":0}]
[null,{"$f":"初期設定!D29","v":0}]
["TEL.※",{"$f":"初期設定!D30","v":0},null,null,null,null,"FAX.※",{"$f":"初期設定!D31","v":0}]
["E-mail※",{"$f":"初期設定!D32","v":0}]
["団体ホームページ",{"$f":"初期設定!D8","v":0}]
[]
["※印の項目については、RACホームページの講座開催予定のページに掲載いたしますので予めご了承ください。不都合がある場合は、その旨ご記入ください。"]
[]
["※1―「申請団体名」の欄にはＲＡＣ会員団体で指導者養成団体名を記入し、「開催団体名」の欄には実際に講座を主催する団体名（例―河川管理者から依頼の場合はその河川管理者名）を記入ください。"]
[]
["■受講者募集について"]
["※ＲＡＣのホームページ等にても募集を行いますので、下記にお誘い用の一文をご記入下さい。"]
[]
[]
[]
[]
[]
[]
[]
["年号","月","日"]
["元",1,1]
[2,2,2]
[3,3,3]
[4,4,4]
[5,5,5]
[6,6,6]
[7,7,7]
[8,8,8]
[9,9,9]
[10,10,10]
[11,11,11]
[12,12,12]
[null,null,13]
[null,null,14]
[null,null,15]
[null,null,16]
[null,null,17]
[null,null,18]
[null,null,19]
[null,null,20]
[null,null,21]
[null,null,22]
[null,null,23]
[null,null,24]
[null,null,25]
[null,null,26]
[null,null,27]
[null,null,28]
[null,null,29]
[null,null,30]
[null,null,31]

{"sheet":"S-2","index":2,"n_rows":32,"n_cols":16,"rows_kept":32,"cut":false,"hidden":false,"merged":[[11,2,15,2],[25,2,26,2],[27,2,28,2],[2,9,2,10],[1,10,1,12],[2,6,3,6],[2,7,3,7],[2,8,3,8],[2,11,3,11],[2,12,3,12],[19,2,20,2],[21,2,23,2],[1,3,1,8],[5,2,7,2],[8,2,10,2],[16,2,18,2]]}
[null,null,"様式Ｓ-2"]
[null,null,"講座名",{"$f":"初期設定!D9","v":0},null,null,null,null,null,"主管団体名",{"$f":"\"RacNet　\"&初期設定!D4","v":"RacNet　"}]
[null,null,null,"必要時間",null,null,"座学\nor実習","実施日\n（予定日）","実施内容","講　　　師",null,"実施場所","時間帯\n（例10:00～11:00）"]
[null,null,null,"講義","実習","合計",null,null,null,"氏　　名\n（※CONEの主任講師には名前の前へ◎印）","所属団体・役職・資格"]
[null,1,"川に学ぶ体験活動の理念",1,"-",1,"座学",null,null,null,null,null,"10:55～11:55",{"$f":"MONTH(H5)","v":1},{"$f":"DAY(H5)","v":0},{"$f":"N5&\"/\"&O5&\" \"&M5&\"、 \"","v":"1/0 10:55～11:55、 "}]
[null,2,"川という自然の理解",1,2,3,"座学",null,null,null,null,null,"17:00～18:00",{"$f":"MONTH(H6)","v":1},{"$f":"DAY(H6)","v":0},{"$f":"N6&\"/\"&O6&\" \"&M6&\"、 \"","v":"1/0 17:00～18:00、 "}]
[null,null,null,null,null,null,"実習",null,null,null,null,null,"9：00～10：00",1,0,"1/0 9：00～10：00、 "]
[null,null,null,null,null,null,"実習",null,null,null,null,null,"10：00～11:00",1,0,"1/0 10：00～11:00、 "]
[null,3,"川と人、社会、文化の関わり",1,2,3,"座学",null,null,null,null,null,"11:00～12:00",1,0,"1/0 11:00～12:00、 "]
[null,null,null,null,null,null,"実習",null,null,null,null,null,"13:00～14:00",1,0,"1/0 13:00～14:00、 "]
[null,null,null,null,null,null,"実習",null,null,null,null,null,"14:00～15:00",1,0,"1/0 14:00～15:00、 "]
[null,4,"安全対策について",1,4,5,"座学",null,null,null,null,null,"17:00～18:00",1,0,"1/0 17:00～18:00、 "]
[null,null,null,null,null,null,"実習",null,null,null,null,null,"9：00～10：00",1,0,"1/0 9：00～10：00、 "]
[null,null,null,null,null,null,"実習",null,null,null,null,null,"10：00～11:00",1,0,"1/0 10：00～11:00、 "]
[null,null,null,null,null,null,"実習",null,null,null,null,null,"11:00～12:30",1,0,"1/0 11:00～12:30、 "]
[null,null,null,null,null,null,"実習"]
[null,5,"川に学ぶ体験活動の基礎技術",1,2,3,"座学",null,null,null,null,null,"15：00～16：00",1,0,"1/0 15：00～16：00、 "]
[null,null,null,null,null,null,"実習",null,null,null,null,null,"16:00～17：00",1,0,"1/0 16:00～17：00、 "]
[null,null,null,null,null,null,"実習",null,null,null,null,null,"17:00～18:00",1,0,"1/0 17:00～18:00、 "]
[null,6,"対象となる参加者のことを知る",1,1,2,"座学",null,null,null,null,null,"18：00～19：00",1,0,"1/0 18：00～19：00、 "]
[null,null,null,null,null,null,"実習",null,null,null,null,null,"19：00～20：00",1,0,"1/0 19：00～20：00、 "]
[null,7,"川に学ぶ体験活動の指導法",1,2,3,"座学",null,null,null,null,null,"18：00～19：00",1,0,"1/0 18：00～19：00、 "]
[null,null,null,null,null,null,"実習",null,null,null,null,null,"13：30～14：30",1,0,"1/0 13：30～14：30、 "]
[null,null,null,null,null,null,"実習",null,null,null,null,null,"14：30～15：30",1,0,"1/0 14：30～15：30、 "]
[null,8,"プログラム作りの基礎知識",1,"-",1,"座学",null,null,null,null,null,"19：00～20：00",1,0,"1/0 19：00～20：00、 "]
[null,9,"青少年教育における体験活動",0.5,"-",0.5,"座学",null,null,null,null,null,"11：55～12：25",1,0,"1/0 11：55～12：25、 "]
[null,null,null,1,null,1,"座学",null,null,null,null,null,"10:55～11:55",1,0,"1/0 10:55～11:55、 "]
[null,10,"学校教育における体験活動",0.5,"-",0.5,"座学",null,null,null,null,null,"11：55～12：25",1,0,"1/0 11：55～12：25、 "]
[null,null,null,1,null,1,"座学",null,null,null,null,null,"20：00～21：00",1,0,"1/0 20：00～21：00、 "]
[null,null,"合計",{"$f":"SUM(D5:D29)","v":11},{"$f":"SUM(E5:E29)","v":13},{"$f":"SUM(F5:F29)","v":24}]
[null,"※必要時間を超える講習を行う場合でも、当該カリキュラムに該当する時間のみ記入してください。"]
[null,"※実施日は　月/日　を半角で入力ください。"]

{"sheet":"S-3","index":3,"n_rows":53,"n_cols":5,"rows_kept":53,"cut":false,"hidden":false,"merged":[[1,1,2,4],[14,1,14,3],[1,0,2,0],[3,0,5,0],[7,0,7,3],[8,0,13,0],[8,1,8,3],[9,1,9,3],[10,1,11,3],[31,3,35,3],[31,4,35,4],[15,0,15,3],[16,1,16,2],[3,1,5,4],[10,4,11,4],[12,1,13,3],[12,4,13,4],[22,4,25,4],[17,4,21,4],[22,3,25,3],[17,3,21,3],[52,0,52,3],[45,1,45,3],[46,1,51,3],[46,4,51,4],[28,3,30,3],[28,4,30,4],[42,4,44,4],[42,3,44,3],[17,0,51,0],[17,1,44,2],[39,4,41,4],[26,3,27,3],[36,3,38,3],[39,3,41,3],[36,4,38,4],[26,4,27,4]]}
["様式Ｓ－３"]
["主管団体名",{"$f":"初期設定!D4","v":0}]
[]
["実施予定日",{"$f":"初期設定!D14","v":0}]
[]
[]
[]
["事項・経費項目",null,null,null,"金額（円）"]
["収入の部","支援金交付希望額 (A)",null,null,150000]
[null,"参加費 (B)",null,null,0]
[null,"補助金・寄付金等 (C)"]
[]
[null,"その他の収入 (D)",null,null,19600]
[]
[null,"収入の部合計 (A+B+C+D)",null,null,{"$f":"SUM(E9:E14)","v":169600}]
[]
[null,null,null,"事項・経費項目","金額"]
["支出の部","支援対象経費",null,"謝金",{"$f":"GETPIVOTDATA(\"金額\",'（集計）'!$D$3,\"項目\",\"謝金\")","v":0}]
[]
[]
[]
[]
[null,null,null,"旅費",{"$f":"GETPIVOTDATA(\"金額\",'（集計）'!$D$3,\"項目\",\"旅　費\")","v":0}]
[]
[]
[]
[null,null,null,"印刷製本費",{"$f":"GETPIVOTDATA(\"金額\",'（集計）'!$D$3,\"項目\",\"印刷製本費\")","v":0}]
[]
[null,null,null,"通信運搬費",{"$f":"GETPIVOTDATA(\"金額\",'（集計）'!$D$3,\"項目\",\"通信運搬費\")","v":0}]
[]
[]
[null,null,null,"借料損料",{"$f":"GETPIVOTDATA(\"金額\",'（集計）'!$D$3,\"項目\",\"借料損料\")","v":0}]
[]
[]
[]
[]
[null,null,null,"消耗品費",{"$f":"GETPIVOTDATA(\"金額\",'（集計）'!$D$3,\"項目\",\"消耗品費\")","v":0}]
[]
[]
[null,null,null,"保険料",{"$f":"GETPIVOTDATA(\"金額\",'（集計）'!$D$3,\"項目\",\"保険料\")","v":0}]
[]
[]
[null,null,null,"雑役務費",{"$f":"GETPIVOTDATA(\"金額\",'（集計）'!$D$3,\"項目\",\"雑役務費\")","v":0}]
[]
[]
[null,"合計 (イ)＝(A)",null,null,{"$f":"SUM(E18:E45)","v":0}]
[null,"支援対象外経費 (ロ)＝（B+C+D）"]
[]
[]
[]
[]
[]
["支出総額 (イ+ロ)",null,null,null,{"$f":"SUM(E46:E52)","v":0}]

{"sheet":"S-5","index":4,"n_rows":98,"n_cols":18,"rows_kept":98,"cut":false,"hidden":false,"merged":[[0,0,0,2],[15,5,16,17],[53,0,53,5],[5,0,5,7],[6,11,6,12],[7,0,7,6],[7,7,7,8],[19,0,19,17],[23,0,23,17],[24,0,24,4],[8,0,8,6],[8,7,8,8],[9,0,9,6],[9,7,9,8],[26,0,26,4],[26,5,26,17],[9,10,9,15],[10,10,10,17],[11,0,11,17],[17,0,17,4],[17,5,17,8],[13,0,13,17],[31,0,31,5],[27,0,27,4],[28,0,28,4],[30,0,30,17],[31,14,31,15],[31,6,31,8],[25,0,25,4],[28,5,28,17],[27,5,27,10],[1,0,1,17],[7,10,7,17],[8,10,8,17],[27,12,27,17],[24,5,24,17],[25,5,25,17],[20,11,21,12],[20,13,21,17],[20,0,21,4],[20,5,21,10],[14,0,14,4],[15,0,16,4],[14,5,14,17],[48,0,48,5],[49,0,49,5],[49,15,49,17],[43,0,45,17],[47,0,47,17],[55,0,56,17],[53,6,53,17],[54,0,54,5],[49,6,49,9],[49,11,49,14],[52,0,52,5],[50,0,50,5],[51,0,51,5],[50,6,50,17],[52,6,52,17],[51,6,51,17],[33,0,33,8],[32,6,32,8],[32,0,32,5],[32,14,32,15],[42,0,42,6],[36,0,36,8],[39,0,39,8],[37,0,38,17],[34,0,35,17],[40,0,41,17]]}
["様式Ｓ－５"]
["自然体験活動指導者対応・RACリーダー養成講座　活動実績報告書 "]
[]
[null,null,null,null,null,null,null,null,null,null,null,"令和",null,"年",null,"月",null,"日"]
["NPO法人川に学ぶ体験活動協議会"]
["代表理事  久住　時男 殿"]
[null,null,null,null,null,null,null,null,null,"住      所※","〒",{"$f":"初期設定!D5","v":0}]
[null,null,null,null,null,null,null,null,null,null,{"$f":"初期設定!D6","v":0}]
[null,null,null,null,null,null,null,null,null,"申請団体名※",{"$f":"初期設定!D4","v":0}]
[null,null,null,null,null,null,null,"　　　　　　　　　　　　　　　　　",null,"代表者職氏名※",{"$f":"初期設定!D7","v":0},null,null,null,null,null,"印"]
["令和",null,"年",null,"月",null,"日","付け、","第",{"$f":"初期設定!D41","v":0},"号で、講座開催の決定通知を受けました講座について、"]
["下記の通り報告及び登録申請いたします。"]
[]
["記"]
["１．講座名※",null,null,null,null,{"$f":"初期設定!D9","v":0}]
["２．実施日時※",null,null,null,null,{"$f":"初期設定!D14","v":"00:00:00"}]
[]
["３．登録者数",null,null,null,null,{"$f":"初期設定!D45","v":0},null,null,null,"名"]
[]
["■担当RACトレーナー"]
["氏　　名※",null,null,null,null,{"$f":"初期設定!D10","v":0},null,null,null,null,null,"トレーナー\n認定番号",null,{"$f":"初期設定!D11","v":0}]
[]
[]
["■担当者の連絡先"]
["氏　　名※",null,null,null,null,{"$f":"初期設定!D25","v":0}]
["所属団体名※",null,null,null,null,{"$f":"初期設定!D26","v":0}]
["住　　所",null,null,null,null,{"$f":"初期設定!D29","v":0}]
["TEL.",null,null,null,null,{"$f":"初期設定!D30","v":0},null,null,null,null,null,"FAX. ",{"$f":"初期設定!D31","v":0}]
["E-mail",null,null,null,null,{"$f":"初期設定!D32","v":0}]
[]
["■活動の実施状況"]
["参加活動実績",null,null,null,null,null,"講師・指導者",null,null,{"$f":"初期設定!D44","v":0},"名","大人",{"$f":"初期設定!D42","v":0},"名","子ども",null,{"$f":"初期設定!D43","v":0},"名"]
["当初計画時",null,null,null,null,null,"講師・指導者",null,null,{"$f":"初期設定!D24","v":0},"名","大人",{"$f":"初期設定!D22","v":0},"名","子ども",null,{"$f":"初期設定!D23","v":0},"名"]
["■企画に当たって工夫・留意した点"]
[]
[]
["■運営に当たって工夫・留意した点"]
[]
[]
["■参加者募集に係る工夫や課題"]
[]
[]
["■活動自己評価・今後の課題"]
[]
[]
[]
[]
["■支払申請（※支援決定を受けた講座のみ）"]
["1. 支払い申請金額",null,null,null,null,null,null,null,null,{"$f":"'R-7'!J13","v":0},"円"]
["2．振込先",null,null,null,null,null,{"$f":"初期設定!D46","v":0},null,null,null,"銀行",{"$f":"初期設定!D47","v":0}]
["3．口座種別",null,null,null,null,null,{"$f":"初期設定!D48","v":0}]
["4．口座番号",null,null,null,null,null,{"$f":"初期設定!D49","v":0}]
["5．口座名義フリガナ",null,null,null,null,null,{"$f":"初期設定!D50","v":0}]
["6．口座名義",null,null,null,null,null,{"$f":"初期設定!D51","v":0}]
[]
["※印の項目については、RACホームページの講座開催予定のページに掲載いたしますので予めご了承ください。不都合がある場合は、その旨ご記入ください。"]
[]
[]
[]
[]
[]
[]
[]
[]
[]
[]
["年号",null,null,null,null,null,"月","日"]
["元",null,null,null,null,null,1,1]
[2,null,null,null,null,null,2,2]
[3,null,null,null,null,null,3,3]
[4,null,null,null,null,null,4,4]
[5,null,null,null,null,null,5,5]
[6,null,null,null,null,null,6,6]
[7,null,null,null,null,null,7,7]
[8,null,null,null,null,null,8,8]
[9,null,null,null,null,null,9,9]
[10,null,null,null,null,null,10,10]
[11,null,null,null,null,null,11,11]
[12,null,null,null,null,null,12,12]
[null,null,null,null,null,null,null,13]
[null,null,null,null,null,null,null,14]
[null,null,null,null,null,null,null,15]
[null,null,null,null,null,null,null,16]
[null,null,null,null,null,null,null,17]
[null,null,null,null,null,null,null,18]
[null,null,null,null,null,null,null,19]
[null,null,null,null,null,null,null,20]
[null,null,null,null,null,null,null,21]
[null,null,null,null,null,null,null,22]
[null,null,null,null,null,null,null,23]
[null,null,null,null,null,null,null,24]
[null,null,null,null,null,null,null,25]
[null,null,null,null,null,null,null,26]
[null,null,null,null,null,null,null,27]
[null,null,null,null,null,null,null,28]
[null,null,null,null,null,null,null,29]
[null,null,null,null,null,null,null,30]
[null,null,null,null,null,null,null,31]

{"sheet":"S-6","index":5,"n_rows":33,"n_cols":30,"rows_kept":33,"cut":false,"hidden":false,"merged":[[20,2,20,3],[15,2,15,3],[16,2,16,3],[17,2,17,3],[18,2,18,3],[19,2,19,3],[27,2,27,3],[21,2,21,3],[22,2,22,3],[23,2,23,3],[24,2,24,3],[25,2,25,3],[26,2,26,3],[32,2,32,3],[28,2,28,3],[29,2,29,3],[30,2,30,3],[31,2,31,3],[2,21,2,29],[3,5,3,7],[2,3,2,18],[4,5,4,7],[4,8,4,10],[4,16,4,18],[2,19,2,20],[3,21,3,23],[3,8,3,10],[3,16,3,18],[3,19,3,20],[3,25,3,26],[3,27,3,28],[4,27,4,28],[4,19,4,20],[3,11,3,15],[4,25,4,26],[14,2,14,3],[4,11,4,15],[4,21,4,23],[9,2,9,3],[10,2,10,3],[11,2,11,3],[12,2,12,3],[13,2,13,3],[8,2,8,3]]}
[]
[null,null,"様式Ｓ-６",null,null,null,null,null,null,null,null,null,null,null,null,null,null,null,null,null,null,null,null,null,null,null,null,null,null,"受講した講座に”○”を記入してください。"]
[null,null,"講座名",{"$f":"初期設定!D9","v":0},null,null,null,null,null,null,null,null,null,null,null,null,null,null,null,"団体名",null,{"$f":"初期設定!D4","v":0}]
[null,null,null,null,1,2,null,null,3,null,null,4,null,null,null,null,5,null,null,6,null,7,null,null,8,9,null,10]
[null,null,null,null,"川に学ぶ体験活動の理念","川という自然の理解",null,null,"川と人、社会、文化の関わり",null,null,"安全対策について",null,null,null,null,"川に学ぶ体験活動の基礎技術",null,null,"対象となる参加者のことを知る",null,"川に学ぶ体験活動の指導法",null,null,"プログラム作りの基礎知識","学校教育における体験活動の意義",null,"教育課程と体験活動の関連性",null,"トレーナー\nコメント欄"]
["リーダー","リーダー+\n全体指導者",null,null,"座学","座学","実習","実習","座学","実習","実習","座学","実習","実習","実習","実習","座学","実習","実習","座学","実習","座学","実習","実習","座学","座学","座学","座学","座学",{"$f":"初期設定!D10","v":0}]
[null,null,null,"実施年"]
[null,null,"受講者氏名","実施日",{"$f":"'S-2'!H5","v":"00:00:00"},{"$f":"'S-2'!H6","v":"00:00:00"},{"$f":"'S-2'!H7","v":"00:00:00"},{"$f":"'S-2'!H8","v":"00:00:00"},{"$f":"'S-2'!H9","v":"00:00:00"},{"$f":"'S-2'!H10","v":"00:00:00"},{"$f":"'S-2'!H11","v":"00:00:00"},{"$f":"'S-2'!H12","v":"00:00:00"},{"$f":"'S-2'!H13","v":"00:00:00"},{"$f":"'S-2'!H14","v":"00:00:00"},{"$f":"'S-2'!H15","v":"00:00:00"},{"$f":"'S-2'!H16","v":"00:00:00"},{"$f":"'S-2'!H17","v":"00:00:00"},{"$f":"'S-2'!H18","v":"00:00:00"},{"$f":"'S-2'!H19","v":"00:00:00"},{"$f":"'S-2'!H20","v":"00:00:00"},{"$f":"'S-2'!H21","v":"00:00:00"},{"$f":"'S-2'!H22","v":"00:00:00"},{"$f":"'S-2'!H23","v":"00:00:00"},{"$f":"'S-2'!H24","v":"00:00:00"},{"$f":"'S-2'!H25","v":"00:00:00"},{"$f":"'S-2'!H26","v":"00:00:00"},{"$f":"'S-2'!H27","v":"00:00:00"},{"$f":"'S-2'!H28","v":"00:00:00"},{"$f":"'S-2'!H29","v":"00:00:00"}]
[{"$f":"IF(COUNTA(E9:Y9)=21,\"合格\",\"×\")","v":"×"},{"$f":"IF(COUNTA(F9:AC9)=25,\"合格\",\"×\")","v":"×"},{"$f":"'R-9'!C4","v":0}]
["×","×",{"$f":"'R-9'!C5","v":0}]
["×","×",{"$f":"'R-9'!C6","v":0}]
["×","×",{"$f":"'R-9'!C7","v":0}]
["×","×",{"$f":"'R-9'!C8","v":0}]
["×","×",{"$f":"'R-9'!C9","v":0}]
["×","×",{"$f":"'R-9'!C10","v":0}]
["×","×",{"$f":"'R-9'!C11","v":0}]
["×","×",{"$f":"'R-9'!C12","v":0}]
["×","×",{"$f":"'R-9'!C13","v":0}]
["×","×",{"$f":"'R-9'!C14","v":0}]
["×","×",{"$f":"'R-9'!C15","v":0}]
["×","×",{"$f":"'R-9'!C16","v":0}]
["×","×",{"$f":"'R-9'!C17","v":0}]
["×","×",{"$f":"'R-9'!C18","v":0}]
["×","×",{"$f":"'R-9'!C19","v":0}]
["×","×",{"$f":"'R-9'!C20","v":0}]
["×","×",{"$f":"'R-9'!C21","v":0}]
["×","×",{"$f":"'R-9'!C22","v":0}]
[{"$f":"IF(COUNTA(E28:Y28)=21,\"合格\",\"×\")","v":"×"},"×",{"$f":"'R-9'!C23","v":0}]
["×","×",{"$f":"'R-9'!C24","v":0}]
["×","×",{"$f":"'R-9'!C25","v":0}]
["×","×",{"$f":"'R-9'!C26","v":0}]
["×","×",{"$f":"'R-9'!C27","v":0}]
["×","×",{"$f":"'R-9'!C28","v":0}]

{"sheet":"R-9","index":6,"n_rows":29,"n_cols":13,"rows_kept":29,"cut":false,"hidden":false,"merged":[[1,0,1,1],[0,0,0,1],[1,2,1,7],[1,9,1,12]]}
["様式Ｒ－９"]
["講座名",null,{"$f":"初期設定!D9","v":0},null,null,null,null,null,"団体名",{"$f":"初期設定!D4","v":0}]
["　","活動河川名","氏名","性別","〒","自宅住所\n（都道府県）","自宅住所\n（市区郡）","自宅住所\n（市区郡以外）","自宅電話","メールアドレス（携帯アドレス不可）","生年月日","所　属","備考"]
[1,null,null,null,null,null,null,null,null,null,"19　　年　　月　　日"]
[2,null,null,null,null,null,null,null,null,null,"19　　年　　月　　日"]
[3,null,null,null,null,null,null,null,null,null,"19　　年　　月　　日"]
[4,null,null,null,null,null,null,null,null,null,"19　　年　　月　　日"]
[5,null,null,null,null,null,null,null,null,null,"19　　年　　月　　日"]
[6,null,null,null,null,null,null,null,null,null,"19　　年　　月　　日"]
[7,null,null,null,null,null,null,null,null,null,"19　　年　　月　　日"]
[8,null,null,null,null,null,null,null,null,null,"19　　年　　月　　日"]
[9,null,null,null,null,null,null,null,null,null,"19　　年　　月　　日"]
[10,null,null,null,null,null,null,null,null,null,"19　　年　　月　　日"]
[11,null,null,null,null,null,null,null,null,null,"19　　年　　月　　日"]
[12,null,null,null,null,null,null,null,null,null,"19　　年　　月　　日"]
[13,null,null,null,null,null,null,null,null,null,"19　　年　　月　　日"]
[14,null,null,null,null,null,null,null,null,null,"19　　年　　月　　日"]
[15,null,null,null,null,null,null,null,null,null,"19　　年　　月　　日"]
[16,null,null,null,null,null,null,null,null,null,"19　　年　　月　　日"]
[17,null,null,null,null,null,null,null,null,null,"19　　年　　月　　日"]
[18,null,null,null,null,null,null,null,null,null,"19　　年　　月　　日"]
[19,null,null,null,null,null,null,null,null,null,"19　　年　　月　　日"]
[20,null,null,null,null,null,null,null,null,null,"19　　年　　月　　日"]
[21,null,null,null,null,null,null,null,null,null,"19　　年　　月　　日"]
[22,null,null,null,null,null,null,null,null,null,"19　　年　　月　　日"]
[23,null,null,null,null,null,null,null,null,null,"19　　年　　月　　日"]
[24,null,null,null,null,null,null,null,null,null,"19　　年　　月　　日"]
[25,null,null,null,null,null,null,null,null,null,"19　　年　　月　　日"]
[null,null,"　"]

{"sheet":"R-7","index":7,"n_rows":82,"n_cols":12,"rows_kept":82,"cut":false,"hidden":false,"merged":[[78,9,78,11],[2,5,2,11],[3,5,3,11],[14,9,16,9],[14,10,16,10],[14,11,16,11],[15,7,16,7],[15,8,16,8],[4,5,4,11],[9,6,9,8],[0,1,0,11],[14,1,16,1],[14,2,16,2],[14,3,16,3],[14,4,16,4],[14,5,16,5],[14,6,16,6],[14,7,14,8]]}
[null,"収支簿"]
[null,null,null,null,null,null,null,null,null,null,null,"№"]
[null,null,null,null,"団体名：",{"$f":"初期設定!D4","v":0}]
[null,"様式Ｒ－７",null,null,"活動名：",{"$f":"初期設定!D9","v":0}]
[null,null,null,null,"講座認定番号：",{"$f":"初期設定!D41","v":0}]
[]
[null,null,null,null,null,null,"収入合計",{"$f":"F78","v":0},"支出合計",{"$f":"G78","v":0}]
[null,"説明",null,null,null,null,null,null,"支援対象経費計",{"$f":"H78","v":0}]
[null,null,null,null,null,null,null,null,"支援対象外経費",{"$f":"J78","v":0}]
[null,null,null,null,null,null,"支援対象額（支出合計－収入合計）(①)",null,null,{"$f":"J7-H7","v":0}]
[null,null,null,null,null,null,"支援基本額(②）",null,null,{"$f":"IF(初期設定!D45<10,10000*初期設定!D45,100000+5000*初期設定!D45)","v":0}]
[null,null,null,null,null,null,"支援額上限(③）",null,null,200000]
[null,null,null,null,null,null,"支援決定額（①～③の最も小さい値）",null,null,{"$f":"MIN(J11,J10,J12)","v":0}]
[]
[null,"領収書\nＮＯ","日　付","項　　目\n(領収書但し書き）","支払先","収入","支　出","支援対象経費",null,"支援対象外経費","検算欄","RAC\nNO"]
[null,null,null,null,null,null,null,"金額","区分"]
[]
["例",101,"2002.5.23","講師謝金","川野 花子",null,30000,20000,null,10000,{"$f":"G18-(H18+J18)","v":0}]
[null,null,null,null,null,null,null,null,null,null,{"$f":"G19-(H19+J19)","v":0}]
[null,null,null,null,null,null,null,null,null,null,0]
[null,null,null,null,null,null,null,null,null,null,0]
[null,null,null,null,null,null,null,null,null,null,0]
[null,null,null,null,null,null,null,null,null,null,0]
[null,null,null,null,null,null,null,null,null,null,0]
[null,null,null,null,null,null,null,null,null,null,0]
[null,null,null,null,null,null,null,null,null,null,0]
[null,null,null,null,null,null,null,null,null,null,0]
[null,null,null,null,null,null,null,null,null,null,0]
[null,null,null,null,null,null,null,null,null,null,0]
[null,null,null,null,null,null,null,null,null,null,0]
[null,null,null,null,null,null,null,null,null,null,0]
[null,null,null,null,null,null,null,null,null,null,0]
[null,null,null,null,null,null,null,null,null,null,0]
[null,null,null,null,null,null,null,null,null,null,0]
[null,null,null,null,null,null,null,null,null,null,0]
[null,null,null,null,null,null,null,null,null,null,0]
[null,null,null,null,null,null,null,null,null,null,0]
[null,null,null,null,null,null,null,null,null,null,0]
[null,null,null,null,null,null,null,null,null,null,0]
[null,null,null,null,null,null,null,null,null,null,0]
[null,null,null,null,null,null,null,null,null,null,0]
[null,null,null,null,null,null,null,null,null,null,0]
[null,null,null,null,null,null,null,null,null,null,0]
[null,null,null,null,null,null,null,null,null,null,0]
[null,null,null,null,null,null,null,null,null,null,0]
[null,null,null,null,null,null,null,null,null,null,0]
[null,null,null,null,null,null,null,null,null,null,0]
[null,null,null,null,null,null,null,null,null,null,0]
[null,null,null,null,null,null,null,null,null,null,0]
[null,null,null,null,null,null,null,null,null,null,0]
[null,null,null,null,null,null,null,null,null,null,0]
[null,null,null,null,null,null,null,null,null,null,0]
[null,null,null,null,null,null,null,null,null,null,0]
[null,null,null,null,null,null,null,null,null,null,0]
[null,null,null,null,null,null,null,null,null,null,0]
[null,null,null,null,null,null,null,null,null,null,0]
[null,null,null,null,null,null,null,null,null,null,0]
[null,null,null,null,null,null,null,null,null,null,0]
[null,null,null,null,null,null,null,null,null,null,0]
[null,null,null,null,null,null,null,null,null,null,0]
[null,null,null,null,null,null,null,null,null,null,0]
[null,null,null,null,null,null,null,null,null,null,0]
[null,null,null,null,null,null,null,null,null,null,0]
[null,null,null,null,null,null,null,null,null,null,0]
[null,null,null,null,null,null,null,null,null,null,0]
[null,null,null,null,null,null,null,null,null,null,0]
[null,null,null,null,null,null,null,null,null,null,0]
[null,null,null,null,null,null,null,null,null,null,0]
[null,null,null,null,null,null,null,null,null,null,0]
[null,null,null,null,null,null,null,null,"雑役務費",null,0]
[null,null,null,null,null,null,null,null,"謝金",null,0]
[null,null,null,null,null,null,null,null,"旅　費",null,0]
[null,null,null,null,null,null,null,null,"印刷製本費",null,0]
[null,null,null,null,null,null,null,null,"通信運搬費",null,0]
[null,null,null,null,null,null,null,null,"借料損料",null,0]
[null,null,null,null,null,null,null,null,"消耗品費",null,0]
[null,null,null,null,null,null,null,null,"保険料",null,0]
[null,null,"合　　　計",null,null,{"$f":"SUM(F19:F77)","v":0},{"$f":"SUM(G19:G77)","v":0},{"$f":"SUM(H19:H77)","v":0},null,{"$f":"SUM(J19:J77)","v":0},0]
[]
[]
[]
[null,"謝金","旅　費","印刷製本費","通信運搬費","借料損料","消耗品費","保険料","雑役務費"]

{"sheet":"S-8","index":8,"n_rows":53,"n_cols":5,"rows_kept":53,"cut":false,"hidden":false,"merged":[[1,0,2,0],[1,1,2,4],[3,0,5,0],[3,1,5,4],[7,0,7,3],[8,0,13,0],[8,1,8,3],[9,1,9,3],[10,1,11,3],[46,1,51,3],[31,3,35,3],[10,4,11,4],[12,1,13,3],[12,4,13,4],[28,3,30,3],[28,4,30,4],[14,1,14,3],[15,0,15,3],[16,1,16,2],[17,0,51,0],[17,4,21,4],[22,3,25,3],[22,4,25,4],[26,4,27,4],[17,1,44,2],[17,3,21,3],[26,3,27,3],[46,4,51,4],[52,0,52,3],[31,4,35,4],[42,3,44,3],[42,4,44,4],[39,3,41,3],[39,4,41,4],[36,3,38,3],[36,4,38,4],[45,1,45,3]]}
["様式Ｓ－8"]
["主管団体名",{"$f":"初期設定!D4","v":0}]
[]
["開催日",{"$f":"初期設定!D14","v":0}]
[]
[]
[]
["事項・経費項目",null,null,null,"金額（円）"]
["収入の部","支援金交付希望額 (A)"]
[null,"参加費 (B)"]
[null,"補助金・寄付金等 (C)"]
[]
[null,"その他の収入 (D)"]
[]
[null,"収入の部合計 (A+B+C+D)",null,null,{"$f":"SUM(E9:E14)","v":0}]
[]
[null,null,null,"事項・経費項目","金額"]
["支出の部","支援対象経費",null,"謝金",{"$f":"GETPIVOTDATA(\"金額\",'（集計）'!$D$3,\"項目\",\"謝金\")","v":0}]
[]
[]
[]
[]
[null,null,null,"旅費",{"$f":"GETPIVOTDATA(\"金額\",'（集計）'!$D$3,\"項目\",\"旅　費\")","v":0}]
[]
[]
[]
[null,null,null,"印刷製本費",{"$f":"GETPIVOTDATA(\"金額\",'（集計）'!$D$3,\"項目\",\"印刷製本費\")","v":0}]
[]
[null,null,null,"通信運搬費",{"$f":"GETPIVOTDATA(\"金額\",'（集計）'!$D$3,\"項目\",\"通信運搬費\")","v":0}]
[]
[]
[null,null,null,"借料損料",{"$f":"GETPIVOTDATA(\"金額\",'（集計）'!$D$3,\"項目\",\"借料損料\")","v":0}]
[]
[]
[]
[]
[null,null,null,"消耗品費",{"$f":"GETPIVOTDATA(\"金額\",'（集計）'!$D$3,\"項目\",\"消耗品費\")","v":0}]
[]
[]
[null,null,null,"保険料",{"$f":"GETPIVOTDATA(\"金額\",'（集計）'!$D$3,\"項目\",\"保険料\")","v":0}]
[]
[]
[null,null,null,"雑役務費",{"$f":"GETPIVOTDATA(\"金額\",'（集計）'!$D$3,\"項目\",\"雑役務費\")","v":0}]
[]
[]
[null,"合計 (イ)＝(A)",null,null,{"$f":"SUM(E18:E45)","v":0}]
[null,"支援対象外経費 (ロ)＝（B+C+D）",null,null,{"$f":"'R-7'!J78","v":0}]
[]
[]
[]
[]
[]
["支出総額 (イ+ロ)",null,null,null,{"$f":"SUM(E46:E52)","v":0}]

{"sheet":"（集計）","index":9,"n_rows":61,"n_cols":7,"rows_kept":61,"cut":false,"hidden":false,"merged":[]}
["金額","項目"]
[{"$f":"'R-7'!H19","v":0},{"$f":"'R-7'!I19","v":0}]
[{"$f":"'R-7'!H20","v":0},{"$f":"'R-7'!I20","v":0},null,"合計 / 金額"]
[{"$f":"'R-7'!H21","v":0},{"$f":"'R-7'!I21","v":0},null,"項目","集計"]
[{"$f":"'R-7'!H22","v":0},{"$f":"'R-7'!I22","v":0},null,0,0]
[{"$f":"'R-7'!H23","v":0},{"$f":"'R-7'!I23","v":0},null,"謝金",0]
[{"$f":"'R-7'!H24","v":0},{"$f":"'R-7'!I24","v":0},null,"旅　費",0]
[{"$f":"'R-7'!H25","v":0},{"$f":"'R-7'!I25","v":0},null,"通信運搬費",0]
[{"$f":"'R-7'!H26","v":0},{"$f":"'R-7'!I26","v":0},null,"印刷製本費",0]
[{"$f":"'R-7'!H27","v":0},{"$f":"'R-7'!I27","v":0},null,"借料損料",0]
[{"$f":"'R-7'!H28","v":0},{"$f":"'R-7'!I28","v":0},null,"消耗品費",0]
[{"$f":"'R-7'!H29","v":0},{"$f":"'R-7'!I29","v":0},null,"雑役務費",0]
[{"$f":"'R-7'!H30","v":0},{"$f":"'R-7'!I30","v":0},null,"保険料",0]
[{"$f":"'R-7'!H31","v":0},{"$f":"'R-7'!I31","v":0},null,"総計",0]
[{"$f":"'R-7'!H32","v":0},{"$f":"'R-7'!I32","v":0},null,"支援基本額(①）",null,null,{"$f":"'R-7'!J11","v":0}]
[{"$f":"'R-7'!H33","v":0},{"$f":"'R-7'!I33","v":0},null,"支援対象額(②）",null,null,{"$f":"'R-7'!J10","v":0}]
[{"$f":"'R-7'!H34","v":0},{"$f":"'R-7'!I34","v":0},null,"支援額上限(③）",null,null,200000]
[{"$f":"'R-7'!H35","v":0},{"$f":"'R-7'!I35","v":0},null,"支援決定額（①～③の最も小さい値）",null,null,{"$f":"MIN(G15,G16,G17)","v":0}]
[{"$f":"'R-7'!H36","v":0},{"$f":"'R-7'!I36","v":0}]
[{"$f":"'R-7'!H37","v":0},{"$f":"'R-7'!I37","v":0}]
[{"$f":"'R-7'!H38","v":0},{"$f":"'R-7'!I38","v":0}]
[{"$f":"'R-7'!H39","v":0},{"$f":"'R-7'!I39","v":0}]
[{"$f":"'R-7'!H40","v":0},{"$f":"'R-7'!I40","v":0}]
[{"$f":"'R-7'!H41","v":0},{"$f":"'R-7'!I41","v":0}]
[{"$f":"'R-7'!H42","v":0},{"$f":"'R-7'!I42","v":0}]
[{"$f":"'R-7'!H43","v":0},{"$f":"'R-7'!I43","v":0}]
[{"$f":"'R-7'!H44","v":0},{"$f":"'R-7'!I44","v":0}]
[{"$f":"'R-7'!H45","v":0},{"$f":"'R-7'!I45","v":0}]
[{"$f":"'R-7'!H46","v":0},{"$f":"'R-7'!I46","v":0}]
[{"$f":"'R-7'!H47","v":0},{"$f":"'R-7'!I47","v":0}]
[{"$f":"'R-7'!H48","v":0},{"$f":"'R-7'!I48","v":0}]
[{"$f":"'R-7'!H49","v":0},{"$f":"'R-7'!I49","v":0}]
[{"$f":"'R-7'!H50","v":0},{"$f":"'R-7'!I50","v":0}]
[{"$f":"'R-7'!H51","v":0},{"$f":"'R-7'!I51","v":0}]
[{"$f":"'R-7'!H52","v":0},{"$f":"'R-7'!I52","v":0}]
[{"$f":"'R-7'!H53","v":0},{"$f":"'R-7'!I53","v":0}]
[{"$f":"'R-7'!H54","v":0},{"$f":"'R-7'!I54","v":0}]
[{"$f":"'R-7'!H55","v":0},{"$f":"'R-7'!I55","v":0}]
[{"$f":"'R-7'!H56","v":0},{"$f":"'R-7'!I56","v":0}]
[{"$f":"'R-7'!H57","v":0},{"$f":"'R-7'!I57","v":0}]
[{"$f":"'R-7'!H58","v":0},{"$f":"'R-7'!I58","v":0}]
[{"$f":"'R-7'!H59","v":0},{"$f":"'R-7'!I59","v":0}]
[{"$f":"'R-7'!H60","v":0},{"$f":"'R-7'!I60","v":0}]
[{"$f":"'R-7'!H61","v":0},{"$f":"'R-7'!I61","v":0}]
[{"$f":"'R-7'!H62","v":0},{"$f":"'R-7'!I62","v":0}]
[{"$f":"'R-7'!H63","v":0},{"$f":"'R-7'!I63","v":0}]
[{"$f":"'R-7'!H64","v":0},{"$f":"'R-7'!I64","v":0}]
[{"$f":"'R-7'!H65","v":0},{"$f":"'R-7'!I65","v":0}]
[{"$f":"'R-7'!H66","v":0},{"$f":"'R-7'!I66","v":0}]
[{"$f":"'R-7'!H67","v":0},{"$f":"'R-7'!I67","v":0}]
[{"$f":"'R-7'!H68","v":0},{"$f":"'R-7'!I68","v":0}]
[{"$f":"'R-7'!H69","v":0},{"$f":"'R-7'!I69","v":0}]
[{"$f":"'R-7'!H70","v":0},{"$f":"'R-7'!I70","v":"雑役務費"}]
[{"$f":"'R-7'!H71","v":0},{"$f":"'R-7'!I71","v":"謝金"}]
[{"$f":"'R-7'!H72","v":0},{"$f":"'R-7'!I72","v":"旅　費"}]
[{"$f":"'R-7'!H73","v":0},{"$f":"'R-7'!I73","v":"印刷製本費"}]
[{"$f":"'R-7'!H74","v":0},{"$f":"'R-7'!I74","v":"通信運搬費"}]
[{"$f":"'R-7'!H75","v":0},{"$f":"'R-7'!I75","v":"借料損料"}]
[{"$f":"'R-7'!H76","v":0},{"$f":"'R-7'!I76","v":"消耗品費"}]
[{"$f":"'R-7'!H77","v":0},{"$f":"'R-7'!I77","v":"保険料"}]
[{"$f":"'R-7'!H78","v":0},{"$f":"'R-7'!I78","v":0}]

{"sheet":"（ACCESS転写データ）","index":10,"n_rows":3,"n_cols":31,"rows_kept":3,"cut":false,"hidden":false,"merged":[]}
[1,2,null,3,4,5,6,7,null,8,10,11,12,13,14,15,16,17,18,19,20,21,22,23,24,25,26,27,28,29,30]
["講座名","トレーナー名","トレーナー認定番号","開催日時","実施河川","実施会場名称","実施会場〒","実施会場住所_ 1","実施会場住所_ 2","実施会場TEL","担当者氏名","担当者所属団体","担当者〒","担当者住所","担当者TEL","担当者FAX","担当者メール","参加者（大人)","参加者（子ども）","登録者数","開催申請日","修了申請日","資料発送先","資料_〒","資料_住所","資料_TEL","資料_受取人","資料_到着日","講座PR","開催団体名","主な経費負担者"]
[{"$f":"初期設定!D9","v":0},{"$f":"初期設定!D10","v":0},{"$f":"初期設定!D11","v":0},{"$f":"初期設定!D14","v":"00:00:00"},{"$f":"初期設定!D15","v":0},{"$f":"初期設定!D16","v":0},{"$f":"初期設定!D17","v":0},{"$f":"初期設定!D18","v":0},{"$f":"初期設定!D19&初期設定!D20","v":""},{"$f":"初期設定!D21","v":0},{"$f":"初期設定!D25","v":0},{"$f":"初期設定!D26","v":0},{"$f":"初期設定!D28","v":0},{"$f":"初期設定!D29","v":0},{"$f":"初期設定!D30","v":0},{"$f":"初期設定!D31","v":0},{"$f":"初期設定!D32","v":0},{"$f":"初期設定!D42","v":0},{"$f":"初期設定!D43","v":0},{"$f":"初期設定!D45","v":0},{"$f":"初期設定!D55","v":"平成年月日"},{"$f":"初期設定!D56","v":"平成年月日"},{"$f":"初期設定!D35","v":0},{"$f":"初期設定!D36","v":0},{"$f":"初期設定!D37","v":0},{"$f":"初期設定!D38","v":0},{"$f":"初期設定!D39","v":0},{"$f":"初期設定!D40","v":"00:00:00"},{"$f":"'S-1'!A48","v":0},{"$f":"初期設定!D12","v":0},{"$f":"初期設定!D13","v":0}]

{"sheet":"CPD","index":11,"n_rows":31,"n_cols":3,"rows_kept":31,"cut":false,"hidden":false,"merged":[[29,1,29,2]]}
[null,null,"【様式－１】"]
[null,"土木学会 継続教育（ＣＰＤ）プログラム認定 申請書"]
[]
[null,"社団法人 土木学会 御中"]
[]
[null,"受付番号","（事務局記入）"]
[null,"プログラム名","川の体験活動指導者養成講座（RACリーダー）"]
[null,"申請団体名（主催者）","特定非営利活動法人川に学ぶ体験活動協議会"]
[null,"開始日",{"$f":"初期設定!D14","v":"00:00:00"}]
[null,"終了日"]
[null,"開催時間（休憩時間を除く）","21時間"]
[null,"開催場所（都道府県）",{"$f":"初期設定!D18","v":"00:00:00"}]
[null,"開催場所（市区郡名）",{"$f":"初期設定!D19","v":"00:00:00"}]
[null,"開催場所（会場名）",{"$f":"初期設定!D20","v":"00:00:00"}]
[null,"定員","20名前後"]
[null,"プログラムの目標（200文字以内※厳守)","川に関する多くの知識を持ち、楽しく安全に川との接し方を教える「川の指導者」の養成を行います。当講座を修了した方々は、「川に学ぶ社会」を創造するため、川の魅力とその本来の姿、川の作法を守ってきた先人の知恵を受け継ぎ、広く多くの人に伝えることのできる川の専門家として、自治体の事業や河川管理業務など各方面で活躍しています。"]
[null,"プログラムの内容（講師と演題）※必須","・カリキュラムは次の8科目―川に学ぶ体験活動の理念（2H）、川に学ぶ体験活動の指導法（4H）、川という自然の理解（3H）、川と人社会文化との関わり（3H）、参加者を知る（2H）、プログラム作りの基礎知識（1H）、安全対策について（4H）、川に学ぶ体験活動の基礎技術（3H）　　\n・講師は原則として各分野で10年以上の経験を有する方々がそれぞれ担当します。"]
[null,"プログラムのレベル（※１）","初級"]
[null,"教育分野（※２）","Ｃ"]
[null,"プログラムの形態（※３）","研修会"]
[null,"CPD単位","（事務局記入）"]
[null,"料金",{"$f":"初期設定!D33","v":"00:00:00"}]
[null,"詳細情報掲載先HPのURL","http://www.rac.gr.jp/03activeRAC/kouzayotei-sidosya01.html"]
[null,"その他"]
[null,"■ プログラム情報検索サイトへの掲載","●希望する  ○希望しない  ※2005年7月1日以降申請分から掲載は有料"]
[null,"■ CPDマークの送付（jpegファイル）","●希望する  ○希望しない  "]
[null,"■ 申請責任者名","上野　豊"]
[null,"■ 担当者名","斉藤　隆"]
[null,"■ 電話番号","03-5542-7577"]
[null,"〔許可条件〕\n１．原則として、主催者は官公庁等、公益法人またはこれに準ずる団体であること。\n２．本会の継続教育プログラムとしてふさわしい内容と講師を含んだものであること。\n\n〔留意事項〕\n１．実際のプログラムが認定申請時の内容と齟齬がある場合には、認定を取り消す場合もあります。\n２．認定プログラムについては、主催者が希望される場合は、建設系ＣＰＤ協議会の「ＣＰＤプログラム情報検索サイト」※４\n    に掲載します。ただし、2005年7月1日以降申請分から有料となります。（1件につき、3,000円をご負担いただきます。）\n３．申請書の作成にあたっては、別シートの入力例を参考にして下さい。\n\n※１：上級、中級、初級から選択して下さい。複数選択も可能です。\n※２：「教育分野」シートに記載された「教育分野及び内容」から最大3つまで選択し、「記号」を入力して下さい。\n※３：講習会、研修会、セミナー、講演会、報告会、シンポジウム、フォーラム、研究会、ワークショップなどから適宜選択して下さい。"]
[null,"※４：建設系CPD協議会のサイトはこちら→","http://www.cpd-ccesa.org/"]

{"sheet":"NEAL","index":12,"n_rows":76,"n_cols":11,"rows_kept":76,"cut":false,"hidden":false,"merged":[[69,2,69,4],[69,6,69,8],[70,1,70,3],[70,4,70,5],[70,6,70,8],[35,5,36,7],[38,5,39,7],[41,5,42,7],[65,1,65,3],[65,4,65,8],[66,0,66,8],[67,0,68,0],[67,2,67,4],[67,6,67,8],[68,2,68,4],[68,6,68,8],[60,1,60,4],[60,5,60,8],[61,1,61,4],[61,5,61,8],[62,1,62,4],[62,5,62,8],[55,0,55,3],[56,0,57,1],[56,2,57,3],[56,4,57,4],[56,5,57,7],[56,8,57,8],[52,0,52,3],[53,0,54,1],[53,2,54,3],[53,4,54,4],[53,5,54,7],[53,8,54,8],[49,0,49,3],[50,0,51,1],[50,2,51,3],[50,4,51,4],[50,5,51,7],[50,8,51,8],[46,0,46,3],[47,0,48,1],[47,2,48,3],[47,4,48,4],[47,5,48,7],[47,8,48,8],[43,0,43,3],[44,0,45,1],[44,2,45,3],[44,4,45,4],[44,5,45,7],[44,8,45,8],[40,0,40,3],[41,0,42,1],[41,2,42,3],[41,4,42,4],[41,8,42,8],[35,8,36,8],[37,0,37,3],[38,0,39,1],[38,2,39,3],[38,4,39,4],[38,8,39,8],[32,0,33,1],[32,2,32,3],[32,5,33,7],[33,2,33,3],[34,0,34,3],[35,0,36,1],[35,2,36,3],[35,4,36,4],[25,0,25,1],[25,2,25,3],[25,4,25,8],[26,4,26,8],[27,0,28,0],[27,1,27,4],[27,5,27,8],[28,1,28,4],[28,5,28,8],[22,1,22,5],[22,6,22,8],[23,1,23,5],[23,6,23,8],[24,1,24,5],[24,6,24,8],[19,2,19,4],[19,5,19,6],[19,7,19,8],[20,0,20,8],[21,1,21,5],[21,6,21,8],[14,0,14,1],[14,2,14,7],[15,1,15,8],[16,1,16,8],[17,0,18,0],[17,1,17,2],[18,1,18,2],[9,0,11,0],[9,7,9,8],[10,2,10,4],[10,6,10,8],[11,2,11,8],[13,0,13,8],[7,1,7,3],[7,4,7,6],[7,7,7,8],[8,1,8,3],[8,4,8,6],[8,7,8,8],[1,0,2,8],[4,0,4,4],[4,6,4,8],[5,0,5,8],[6,1,6,5],[6,6,6,7]]}
[null,null,null,null,null,null,null,null,"様式３"]
["養成講習実施申請書",null,null,null,null,null,null,null,null,"必須項目のうち、以下の行に入力漏れが"]
[null,null,null,null,null,null,null,null,null,{"$f":"IF(COUNTIF(J5:J63,\"入力漏れ\"),COUNTIF(J5:J63,\"入力漏れ\"),\"0\")","v":"0"},"箇所あります。"]
[]
[null,null,null,null,null,"申請日",{"$f":"初期設定!D55","v":"平成年月日"},null,null,{"$f":"IF(OR(ISBLANK(G5)),\"入力漏れ\",\"\")","v":""}]
["1.　団体概要"]
["(1)申請団体名",{"$f":"CPD!C8","v":"特定非営利活動法人川に学ぶ体験活動協議会"},null,null,null,null,"(2)団体認定番号",null,295,{"$f":"IF(OR(ISBLANK(B7),ISBLANK(I7)),\"入力漏れ\",\"\")","v":""}]
[null,"(3)申請責任者",null,null,"(4)主任講師",null,null,"(5)主任講師登録番号"]
["氏　名",{"$f":"CPD!C28","v":"斉藤　隆"},null,null,{"$f":"初期設定!D10","v":0},null,null,{"$f":"初期設定!D11","v":0},null,{"$f":"IF(OR(ISBLANK(B9),ISBLANK(E9)),\"入力漏れ\",\"\")","v":""}]
["(6)申請書内容照会先","〒　　","110-0001","住所","東京都","台東","区","大輪ビル3階A室",null,{"$f":"IF(OR(ISBLANK(C10),ISBLANK(E10),ISBLANK(F10),ISBLANK(G10),ISBLANK(H10)),\"入力漏れ\",\"\")","v":""}]
[null,"電話番号","03-5832-9841",null,null,"ＦＡＸ番号","03-6893-2642",null,null,{"$f":"IF(OR(ISBLANK(C11),ISBLANK(G11)),\"入力漏れ\",\"\")","v":""}]
[null,"E-mail","rac@rac.gr.jp",null,null,null,null,null,null,{"$f":"IF(OR(ISBLANK(C12)),\"入力漏れ\",\"\")","v":""}]
[]
["2.　申請講習"]
["(1)申請・資格種別",null,"自然体験活動指導者（リーダー）養成講習",null,null,null,null,null,null,{"$f":"IF(OR(ISBLANK(C15)),\"入力漏れ\",\"\")","v":""}]
["(2)講習会名称",{"$f":"初期設定!D9","v":0},null,null,null,null,null,null,null,{"$f":"IF(OR(ISBLANK(B16)),\"入力漏れ\",\"\")","v":""}]
["(3)前回の養成講習認定番号"]
["(4)講習実施期間","開始日",null,2013,"年",6,"月",17,"日",{"$f":"IF(OR(ISBLANK(D18),ISBLANK(F18),ISBLANK(H18)),\"入力漏れ\",\"\")","v":""}]
[null,"修了日",null,2013,"年",7,"月",7,"日",{"$f":"IF(OR(ISBLANK(D19),ISBLANK(F19),ISBLANK(H19)),\"入力漏れ\",\"\")","v":""}]
["(5)主な会場","名　　　称",{"$f":"初期設定!D16","v":0},null,null,"都道府県",null,{"$f":"初期設定!D18","v":0},null,{"$f":"IF(OR(ISBLANK(C20),ISBLANK(H20)),\"入力漏れ\",\"\")","v":""}]
["(6）共催・協力団体・後援団体・助成団体名称　および　協力形態（後援名義付与、助成金交付、など）"]
[null,"協力形態",null,null,null,null,"団体名名称"]
[1,"主管",null,null,null,null,{"$f":"初期設定!D4","v":0}]
[2]
[3]
["(7)総スタッフ数",null,"(8)対象年齢",null,"(9)その他の参加用件"]
[{"$f":"初期設定!D24","v":0},"人",18,"歳以上",null,null,null,null,null,{"$f":"IF(OR(ISBLANK(A27),ISBLANK(C27)),\"入力漏れ\",\"\")","v":""}]
["(10)部分履修の可否","分割履修",null,null,null,"青少年教育・学校教育における体験活動（3時間）のみの履修"]
[null,"部分履修不可",null,null,null,"部分履修不可",null,null,null,{"$f":"IF(OR(ISBLANK(B29),ISBLANK(F29)),\"入力漏れ\",\"\")","v":""}]
[]
["3.　カリキュラム実施時間数・講師名"]
[null,null,null,null,null,"(6)合計実施時間",{"$f":"IF(ISERROR(E36+E39+E42+E45+E48+E51+E54+E57),\"\",E36+E39+E42+E45+E48+E51+E54+E57)","v":24},"合計過不足",{"$f":"IF(ISERROR(I35+I38+I41+I44+I47+I50+I53+I56),\"\",I35+I38+I41+I44+I47+I50+I53+I56)","v":1.5}]
["(1)プログラム名",null,"(2)開催日時",null,"(3)時間数計","(4)展開計画（ねらい・目標など）",null,null,"(5)講師名"]
[null,null,"(記入例 5/5 10:00～11:00)",null,"（記入例　1.5）",null,null,null,"主任講師には◎"]
[{"$f":"IF(C15=\"\",\"\",VLOOKUP(C15,題名共通,2,FALSE))","v":"青少年教育における体験活動"},null,null,null,"規定時間数:",{"$f":"IF(C15=\"\",\"\",VLOOKUP(C15,時間数新規用,2,FALSE))","v":1.5},null,"  過不足  :",{"$f":"IF(ISERROR(E36-F35),\"\",E36-F35)","v":0}]
[{"$f":"'S-2'!C26","v":"青少年教育における体験活動"},null,{"$f":"'S-2'!P26&'S-2'!P27","v":"1/0 11：55～12：25、 1/0 10:55～11:55、 "},null,"1.5","青少年教育の現状と課題等を理解する",null,null,{"$f":"'S-2'!J26","v":0}]
[]
[{"$f":"IF(C15=\"\",\"\",VLOOKUP(C15,題名共通,3,FALSE))","v":"学校教育における体験活動"},null,null,null,"規定時間数 ： ",{"$f":"IF(C15=\"\",\"\",VLOOKUP(C15,時間数新規用,3,FALSE))","v":1.5},null,"  過不足  :",{"$f":"IF(ISERROR(E39-F38),\"\",E39-F38)","v":0}]
[{"$f":"'S-2'!C28","v":"学校教育における体験活動"},null,{"$f":"'S-2'!P28&'S-2'!P29","v":"1/0 11：55～12：25、 1/0 20：00～21：00、 "},null,"1.5","学校教育制度と学習指導要領、学習指導案について理解する",null,null,{"$f":"'S-2'!J26","v":0}]
[]
[{"$f":"IF(C15=\"\",\"\",VLOOKUP(C15,題名共通,4,FALSE))","v":"自然体験活動の特質"},null,null,null,"規定時間数 ： ",{"$f":"IF(C15=\"\",\"\",VLOOKUP(C15,時間数新規用,4,FALSE))","v":6},null,"  過不足  :",{"$f":"IF(ISERROR(E42-F41),\"\",E42-F41)","v":0}]
[{"$f":"'S-2'!C9&\"・\"&'S-2'!C6","v":"川と人、社会、文化の関わり・川という自然の理解"},null,{"$f":"'S-2'!P6&'S-2'!P7&'S-2'!P8&'S-2'!P9&'S-2'!P10&'S-2'!P11","v":"1/0 17:00～18:00、 1/0 9：00～10：00、 1/0 10：00～11:00、 1/0 11:00～12:00、 1/0 13:00～14:00、 1/0 14:00～15:00、 "},null,"6","川という自然の体系的な仕組みや生態系について基礎的な概要や、川と人の暮らしの関わりについて基礎的な事柄を知る。また、人の生き方、暮らし方と川との関連や川と関連して生まれた技能・芸能・伝統文化について初歩的な知識を得る。",null,null,{"$f":"'S-2'!J6&\"・\"&'S-2'!J9&\"・\"&'S-2'!J7&\"・\"&'S-2'!J8&\"・\"&'S-2'!J10&\"・\"&'S-2'!J11","v":"・・・・・"}]
[]
[{"$f":"IF(C15=\"\",\"\",VLOOKUP(C15,題名共通,5,FALSE))","v":"参加者理解"},null,null,null,"規定時間数 ： ",{"$f":"IF(C15=\"\",\"\",VLOOKUP(C15,時間数新規用,5,FALSE))","v":1.5},null,"  過不足  :",{"$f":"IF(ISERROR(E45-F44),\"\",E45-F44)","v":0.5}]
[{"$f":"'S-2'!C20","v":"対象となる参加者のことを知る"},null,{"$f":"'S-2'!P20&'S-2'!P21","v":"1/0 18：00～19：00、 1/0 19：00～20：00、 "},null,"2","参加者の状況を指導計画に活かす意味や指導者として参加者に配慮すべき事柄を理解する。また、川に学ぶ体験活動を提供する指導者としての心構えを認識する。",null,null,{"$f":"'S-2'!J20&\"・\"&'S-2'!J21","v":"・"}]
[]
[{"$f":"IF(C15=\"\",\"\",VLOOKUP(C15,題名共通,6,FALSE))","v":"自然体験活動の技術"},null,null,null,"規定時間数 ： ",{"$f":"IF(C15=\"\",\"\",VLOOKUP(C15,時間数新規用,6,FALSE))","v":3},null,"  過不足  :",{"$f":"IF(ISERROR(E48-F47),\"\",E48-F47)","v":0}]
[{"$f":"'S-2'!C17","v":"川に学ぶ体験活動の基礎技術"},null,{"$f":"'S-2'!P17&'S-2'!P18&'S-2'!P19","v":"1/0 15：00～16：00、 1/0 16:00～17：00、 1/0 17:00～18:00、 "},null,"3","川に学ぶ体験活動における基礎的な技能の必要性を知り、これらを修得する。また、自然環境への配慮・他利用者への配慮・川でのマナーの必要性を知る。",null,null,{"$f":"'S-2'!J17&\"・\"&'S-2'!J18&\"・\"&'S-2'!J19","v":"・・"}]
[]
[{"$f":"IF(C15=\"\",\"\",VLOOKUP(C15,題名共通,7,FALSE))","v":"自然体験活動の安全管理"},null,null,null,"規定時間数 ： ",{"$f":"IF(C15=\"\",\"\",VLOOKUP(C15,時間数新規用,7,FALSE))","v":4.5},null,"  過不足  :",{"$f":"IF(ISERROR(E51-F50),\"\",E51-F50)","v":0.5}]
[{"$f":"'S-2'!C12","v":"安全対策について"},null,{"$f":"'S-2'!P12&'S-2'!P13&'S-2'!P14&'S-2'!P15&'S-2'!P16","v":"1/0 17:00～18:00、 1/0 9：00～10：00、 1/0 10：00～11:00、 1/0 11:00～12:30、 "},null,"5","川での活動に必要な安全対策、安全管理を理解し、基本的な救急処置法を実習、経験する。また指導者の責任、その範囲について知り、指導活動中の安全配慮の実際を経験する",null,null,{"$f":"'S-2'!J22&\"・\"&'S-2'!J13&\"・\"&'S-2'!J14&\"・\"&'S-2'!J15","v":"・・・"}]
[]
[{"$f":"IF(C15=\"\",\"\",VLOOKUP(C15,題名共通,8,FALSE))","v":"自然体験活動の指導"},null,null,null,"規定時間数 ： ",{"$f":"IF(C15=\"\",\"\",VLOOKUP(C15,時間数新規用,8,FALSE))","v":3},null,"  過不足  :",{"$f":"IF(ISERROR(E54-F53),\"\",E54-F53)","v":0}]
[{"$f":"'S-2'!C22","v":"川に学ぶ体験活動の指導法"},null,{"$f":"'S-2'!P22&'S-2'!P23&'S-2'!P24","v":"1/0 18：00～19：00、 1/0 13：30～14：30、 1/0 14：30～15：30、 "},null,"3","川での体験活動に適した基本的な指導法とより効果的な指導法について知る",null,null,{"$f":"'S-2'!J22&\"・\"&'S-2'!J23&\"・\"&'S-2'!J24","v":"・・"}]
[]
[{"$f":"IF(C15=\"\",\"\",VLOOKUP(C15,題名共通,9,FALSE))","v":"自然体験活動の企画・運営"},null,null,null,"規定時間数 ： ",{"$f":"IF(C15=\"\",\"\",VLOOKUP(C15,時間数新規用,9,FALSE))","v":1.5},null,"  過不足  :",{"$f":"IF(ISERROR(E57-F56),\"\",E57-F56)","v":0.5}]
[{"$f":"'S-2'!C5&\"・\"&'S-2'!C25","v":"川に学ぶ体験活動の理念・プログラム作りの基礎知識"},null,{"$f":"'S-2'!P5&'S-2'!P25","v":"1/0 10:55～11:55、 1/0 19：00～20：00、 "},null,"2","川に学ぶ体験活動の意義を理解し、川での体験活動に適したプログラム作りの基礎知識を知る",null,null,{"$f":"'S-2'!J25&\"・\"&'S-2'!J5","v":"・"}]
[]
[]
["4.　講習の保険加入状況"]
[null,"傷害保険",null,null,null,"賠償責任保険"]
["主催者・スタッフ","全員加入（加入期間　表記講座実施期間中に同じ）",null,null,null,"全員加入（加入期間　表記講座実施期間中に同じ）",null,null,null,{"$f":"IF(OR(ISBLANK(B62),ISBLANK(F62)),\"入力漏れ\",\"\")","v":""}]
["参加者","全員加入（加入期間　表記講座実施期間中に同じ）",null,null,null,null,null,null,null,{"$f":"IF(OR(ISBLANK(B63)),\"入力漏れ\",\"\")","v":""}]
[]
["5.　情報公開"]
["情報公開希望の有無","当該講習を「養成講習一覧」に",null,null,"載せない（理由：受講対象者が特定されている為）",null,null,null,null,{"$f":"IF(OR(ISBLANK(E66)),\"入力漏れ\",\"\")","v":""}]
["↓　情報公開 希望の場合は以下項目を入力（記入内容はそのままホームページに掲載されます）"]
["問い合わせ先","名　称",{"$f":"\"RacNet　\"&初期設定!D4","v":"RacNet　"},null,null,"所在地",{"$f":"初期設定!D37","v":0}]
[null,"電　話",{"$f":"初期設定!D30","v":0},null,null,"ＦＡＸ",{"$f":"初期設定!D31","v":0}]
[null,"E-mail",{"$f":"初期設定!D32","v":0},null,null,"ホームページ",{"$f":"初期設定!D8","v":0}]
["参加費",{"$f":"初期設定!D33","v":0},null,null,"参加費備考"]
[]
[]
["【添付書類】"]
["・日程表"]
["・認定試験（リーダー養成事業は不要）"]

{"sheet":"NEAL（日程表）_","index":13,"n_rows":1,"n_cols":4,"rows_kept":1,"cut":false,"hidden":false,"merged":[]}
[null,"実施日時","プログラム","講師"]

{"sheet":"（作業用_Ｎ）","index":14,"n_rows":26,"n_cols":4,"rows_kept":26,"cut":false,"hidden":false,"merged":[]}
[null,"実施日時","プログラム","講師"]
[null,{"$f":"'S-2'!P5","v":"1/0 10:55～11:55、 "},{"$f":"'S-2'!C5","v":"川に学ぶ体験活動の理念"},{"$f":"'S-2'!J5","v":0}]
[null,{"$f":"'S-2'!P6","v":"1/0 17:00～18:00、 "},{"$f":"'S-2'!C6","v":"川という自然の理解"},{"$f":"'S-2'!J6","v":0}]
[null,{"$f":"'S-2'!P7","v":"1/0 9：00～10：00、 "},{"$f":"C3","v":"川という自然の理解"},{"$f":"'S-2'!J7","v":0}]
[null,{"$f":"'S-2'!P8","v":"1/0 10：00～11:00、 "},{"$f":"C4","v":"川という自然の理解"},{"$f":"'S-2'!J8","v":0}]
[null,{"$f":"'S-2'!P9","v":"1/0 11:00～12:00、 "},{"$f":"'S-2'!C9","v":"川と人、社会、文化の関わり"},{"$f":"'S-2'!J9","v":0}]
[null,{"$f":"'S-2'!P10","v":"1/0 13:00～14:00、 "},{"$f":"C6","v":"川と人、社会、文化の関わり"},{"$f":"'S-2'!J10","v":0}]
[null,{"$f":"'S-2'!P11","v":"1/0 14:00～15:00、 "},{"$f":"C7","v":"川と人、社会、文化の関わり"},{"$f":"'S-2'!J11","v":0}]
[null,{"$f":"'S-2'!P12","v":"1/0 17:00～18:00、 "},{"$f":"'S-2'!C12","v":"安全対策について"},{"$f":"'S-2'!J12","v":0}]
[null,{"$f":"'S-2'!P13","v":"1/0 9：00～10：00、 "},{"$f":"C9","v":"安全対策について"},{"$f":"'S-2'!J13","v":0}]
[null,{"$f":"'S-2'!P14","v":"1/0 10：00～11:00、 "},{"$f":"C10","v":"安全対策について"},{"$f":"'S-2'!J14","v":0}]
[null,{"$f":"'S-2'!P15","v":"1/0 11:00～12:30、 "},{"$f":"C11","v":"安全対策について"},{"$f":"'S-2'!J15","v":0}]
[null,{"$f":"'S-2'!P16","v":0},{"$f":"C12","v":"安全対策について"},{"$f":"'S-2'!J16","v":0}]
[null,{"$f":"'S-2'!P17","v":"1/0 15：00～16：00、 "},{"$f":"'S-2'!C17","v":"川に学ぶ体験活動の基礎技術"},{"$f":"'S-2'!J17","v":0}]
[null,{"$f":"'S-2'!P18","v":"1/0 16:00～17：00、 "},{"$f":"C14","v":"川に学ぶ体験活動の基礎技術"},{"$f":"'S-2'!J18","v":0}]
[null,{"$f":"'S-2'!P19","v":"1/0 17:00～18:00、 "},{"$f":"C15","v":"川に学ぶ体験活動の基礎技術"},{"$f":"'S-2'!J19","v":0}]
[null,{"$f":"'S-2'!P20","v":"1/0 18：00～19：00、 "},{"$f":"'S-2'!C20","v":"対象となる参加者のことを知る"},{"$f":"'S-2'!J20","v":0}]
[null,{"$f":"'S-2'!P21","v":"1/0 19：00～20：00、 "},{"$f":"C17","v":"対象となる参加者のことを知る"},{"$f":"'S-2'!J21","v":0}]
[null,{"$f":"'S-2'!P22","v":"1/0 18：00～19：00、 "},{"$f":"'S-2'!C22","v":"川に学ぶ体験活動の指導法"},{"$f":"'S-2'!J22","v":0}]
[null,{"$f":"'S-2'!P23","v":"1/0 13：30～14：30、 "},{"$f":"C19","v":"川に学ぶ体験活動の指導法"},{"$f":"'S-2'!J23","v":0}]
[null,{"$f":"'S-2'!P24","v":"1/0 14：30～15：30、 "},{"$f":"C20","v":"川に学ぶ体験活動の指導法"},{"$f":"'S-2'!J24","v":0}]
[null,{"$f":"'S-2'!P25","v":"1/0 19：00～20：00、 "},{"$f":"'S-2'!C25","v":"プログラム作りの基礎知識"},{"$f":"'S-2'!J25","v":0}]
[null,{"$f":"'S-2'!P26","v":"1/0 11：55～12：25、 "},{"$f":"'S-2'!C26","v":"青少年教育における体験活動"},{"$f":"'S-2'!J26","v":0}]
[null,{"$f":"'S-2'!P27","v":"1/0 10:55～11:55、 "},{"$f":"C23","v":"青少年教育における体験活動"},{"$f":"'S-2'!J27","v":0}]
[null,{"$f":"'S-2'!P28","v":"1/0 11：55～12：25、 "},{"$f":"'S-2'!C28","v":"学校教育における体験活動"},{"$f":"'S-2'!J28","v":0}]
[null,{"$f":"'S-2'!P29","v":"1/0 20：00～21：00、 "},{"$f":"C25","v":"学校教育における体験活動"},{"$f":"'S-2'!J29","v":0}]